BEGIN:VCALENDAR
VERSION:2.0
PRODID:-//GUIA DE COMERCIOS &amp; PROFESIONALES - REMEDIOS DE ESCALADA - ECPv6.8.3//NONSGML v1.0//EN
CALSCALE:GREGORIAN
METHOD:PUBLISH
X-WR-CALNAME:GUIA DE COMERCIOS &amp; PROFESIONALES - REMEDIOS DE ESCALADA
X-ORIGINAL-URL:https://guiadecomercios.rdeweb.com.ar
X-WR-CALDESC:Eventos para GUIA DE COMERCIOS &amp; PROFESIONALES - REMEDIOS DE ESCALADA
REFRESH-INTERVAL;VALUE=DURATION:PT1H
X-Robots-Tag:noindex
X-PUBLISHED-TTL:PT1H
BEGIN:VTIMEZONE
TZID:UTC
BEGIN:STANDARD
TZOFFSETFROM:+0000
TZOFFSETTO:+0000
TZNAME:UTC
DTSTART:20240101T000000
END:STANDARD
END:VTIMEZONE
BEGIN:VEVENT
DTSTART;TZID=UTC:20241208T080000
DTEND;TZID=UTC:20241208T170000
DTSTAMP:20260423T203501
CREATED:20241208T023953Z
LAST-MODIFIED:20241208T024925Z
UID:103-1733644800-1733677200@guiadecomercios.rdeweb.com.ar
SUMMARY:Crash Bar
DESCRIPTION:Burger & más 🍔\n\nᴀᴠ. ʜ.ʏʀɪɢᴏʏᴇɴ 6600\,ʀ. ᴅᴇ ᴇsᴄᴀʟᴀᴅᴀ\nᴍᴀʀ ᴀ ᴊᴜᴇ ʏ ᴅᴏᴍ 18 ᴀ 00 ʜs\nᴠɪᴇʀɴᴇs ʏ sᴀ́ʙᴀᴅᴏs 18 ᴀ 02 ʜs
URL:https://guiadecomercios.rdeweb.com.ar/negocios-destacados/crash-bar/
LOCATION:CRASH BAR\, AV Hipolito Yrigoyen 6600\, Remedios de Escalada\, Remedios de Escalada\, 1826\, Argentina
ATTACH;FMTTYPE=image/jpeg:https://guiadecomercios.rdeweb.com.ar/wp-content/uploads/2024/11/crash3.jpg
END:VEVENT
END:VCALENDAR